Workbook
Name Coef: Feuil1!$C$26:$D$39
Name coef2: Feuil1!$D$26:$F$39
Name coef3: Feuil1!$C$26:$F$39
Name coef4: Feuil1!$F$26:$G$39
Name DP: Feuil1!$AB$6:$AF$20
Name Qoef: Feuil1!$R$6:$S$19
Name regime: Feuil1!$L$9:$N$12

Sheet Feuil1
B1: Calculez l'estimation de votre contribution annuelle hors frais annexes
A2: par élève sur l'année scolaire 2026-2027
B4: Données à saisir | E4: Ce tableau est une aide au calcul de votre contribution annuelle, et n'a aucune valeur contractuelle | T4: Votre / vos enfant/s :
S5: non | T5: Entrée Maternelle / Primaire
B6: Salaire Brut annuel et assimilés Monsieur | F6: Personne au foyer fiscal "X" | S6: non | T6: sera scolarisé à NDP après le 01/09/2026 | AC6: EXT | AD6: DP3 | AE6: DP4 | AF6: DP5
B7: Salaire Brut annuel et assimilés Madame | F7: Monsieur | S7: non | T7: était scolarisé à NDP avant le 01/09/2026 | AB7: A | AC7: 0 | AD7: 744 | AE7: 924 | AF7: 1133
B8: Salaire et assimilés Autres | F8: Madame | AB8: B | AC8: 0 | AD8: =+AD7 -> 744 | AE8: =+AE7 -> 924 | AF8: =+AF7 -> 1133
B9: Revenus des professions non salarié | F9: Enfant1 | AB9: C | AC9: 0 | AD9: =+AD8 -> 744 | AE9: =+AE8 -> 924 | AF9: =+AF8 -> 1133
B10: Revenus Agricoles | F10: Enfant2 | AB10: D | AC10: 0 | AD10: =+AD9 -> 744 | AE10: =+AE9 -> 924 | AF10: =+AF9 -> 1133
B11: Revenus fonciers nets | F11: Enfant3 | AB11: E | AC11: 0 | AD11: 887 | AE11: 1067 | AF11: 1301
B12: Revenus de capitaux déclarés | F12: Enfant4 | AB12: F | AC12: 0 | AD12: =+AD11 -> 887 | AE12: =+AE11 -> 1067 | AF12: =+AF11 -> 1301
B13: Pension alimentaire perçue | F13: Enfant5 | AB13: G | AC13: 0 | AD13: =+AD12 -> 887 | AE13: =+AE12 -> 1067 | AF13: =+AF12 -> 1301
B14: Pension alimentaire versée | F14: Enfant6 | AB14: H | AC14: 0 | AD14: =+AD13 -> 887 | AE14: =+AE13 -> 1067 | AF14: =+AF13 -> 1301
B15: Allocation familiale perçue | F15: Enfant7 | AB15: I | AC15: 0 | AD15: =+AD14 -> 887 | AE15: =+AE14 -> 1067 | AF15: =+AF14 -> 1301
B16: Revenus de solidarité perçus | F16: Enfant8 | AB16: J | AC16: 0 | AD16: =+AD15 -> 887 | AE16: =+AE15 -> 1067 | AF16: =+AF15 -> 1301
AB17: K | AC17: 0 | AD17: 916 | AE17: 1101 | AF17: 1365
B18: REVENUS ANNUELS RETENUS | C18: =C6+C7+C8+C9+C11+C12+C13+C15+C16-C14+C10 -> 0 | F18: Nombre de personnes | I18: =AC36 -> 0 | AB18: L | AC18: 0 | AD18: =+AD17 -> 916 | AE18: =+AE17 -> 1101 | AF18: =+AF17 -> 1365
AB19: M | AC19: 0 | AD19: =+AD18 -> 916 | AE19: =+AE18 -> 1101 | AF19: =+AF18 -> 1365
AB20: N | AC20: 0 | AD20: =+AD19 -> 916 | AE20: =+AE19 -> 1101 | AF20: =+AF19 -> 1365
B21: Coefficient Famille | C21: =IF(I18=0,0,C18/I18) -> 0
F22: Montant | H22: Régine
F23: del contribution | H23: DP | AC23: Nombre de personne au foyer fiscal
E24: Code
B25: Contribution Famille pour l'Ecole | E25: =IF(S5="non","",Base!B38) | F25: =Base!C38 -> 0 | H25: Ext | AC25: =+IF(G7="x",1,0) -> 0 | AD25: Monsieur
B26: Contribution Famille pourle Collège Lycée (entrée apres le 01/09/2026) | E26: =IF(S6="non","",Base!F38) | F26: =Base!G38 -> 0 | H26: Ext | J26: Cout global année (hs frais annexe) | N26: =F29+F36 -> 0 | AC26: =+IF(G8="x",1,0) -> 0 | AD26: Madame
B27: Contribution Famille pourle Collège Lycée (entrée avant le 01/09/2026) | E27: =IF(S7="non","",Base!J38) | F27: =Base!K38 -> 0 | H27: Ext | AC27: =+IF(G9="x",1,0) -> 0 | AD27: Enfant1
K28: sept | N28: =F29*0.1 -> 0 | AC28: =+IF(G10="x",1,0) -> 0 | AD28: Enfant2
B29: Montant annuel de la contribution Famille | F29: =SUM(F25:F28) -> 0 | K29: oct | N29: =F29*0.1 -> 0 | AC29: =+IF(G11="x",1,0) -> 0 | AD29: Enfant3
K30: Nov | N30: =(N26-N28-N29)*0.125 -> 0 | AC30: =+IF(G12="x",2,0) -> 0 | AD30: Enfant4
K31: dec | N31: =N30 -> 0 | AC31: =+IF(G13="x",2,0) -> 0 | AD31: Enfant5
B32: Forfait DP pour l'Ecole | F32: =_xlfn.XLOOKUP(Feuil1!H25,Base!A45:A49,Base!B45:B49) -> 0 | K32: janv | N32: =N31 -> 0 | AC32: =+IF(G14="x",2,0) -> 0 | AD32: Enfant6
B33: Forfait DP pourle Collège Lycée (entrée après le 01/09/2026) | F33: =_xlfn.XLOOKUP(H26,Base!G44:J44,Base!G49:J49) -> 0 | K33: fev | N33: =N32 -> 0 | AC33: =+IF(G15="x",2,0) -> 0 | AD33: Enfant7
B34: Forfait DP pourle Collège Lycée (entrée avant le 01/09/2026) | F34: =_xlfn.XLOOKUP(H27,Base!G44:J44,Base!G49:J49,) -> 0 | K34: mars | N34: =N33 -> 0 | AC34: =+IF(G16="x",2,0) -> 0 | AD34: Enfant8
K35: avril | N35: =N34 -> 0
B36: Montant annuel du forfait de restauration | F36: =SUM(F32:F35) -> 0 | K36: mai | N36: =N35 -> 0 | AC36: =SUM(AC25:AC35) -> 0
K37: juin | N37: =N36 -> 0
K39: Total des PRM/mensuel | N39: =SUM(N28:N38) -> 0
K40: hors frais annexes

Sheet Base
A1: code1 | B1: CFamille1 | C1: montant ecole | E1: code2 | F1: CFamille2 | G1: Montant nouveau | I1: code3 | J1: CFamille3 | K1: Montant ancien | Q1: Tri par section
A2: 101 | B2: 2797 | C2: 892 | E2: 1 | F2: 2797 | G2: 642 | I2: A | J2: 2063 | K2: 642
A3: 102 | B3: 5601 | C3: 992 | E3: 2 | F3: 4182 | G3: 1242 | I3: B | J3: 2797 | K3: 912 | Q3: =IF(Feuil1!S5="oui","code1","")
A4: 103 | B4: 8389 | C4: 1242 | E4: 3 | F4: 7011 | G4: 1642 | I4: C | J4: 3491 | K4: 1242 | Q4: =IF(Feuil1!S6="oui","code2","")
A5: 104 | B5: 12617 | C5: 1442 | E5: 4 | F5: 9801 | G5: 1842 | I5: D | J5: 4182 | K5: 1372 | Q5: =IF(Feuil1!S7="oui","code3","")
A6: 105 | B6: 15359 | C6: 1467 | E6: 5 | F6: 12617 | G6: 2242 | I6: E | J6: 5601 | K6: 1512
A7: 106 | B7: 999999999 | C7: 1492 | E7: 6 | F7: 15359 | G7: 2442 | I7: F | J7: 7011 | K7: 1642
E8: 7 | F8: 999999999 | G8: 2742 | I8: G | J8: 8389 | K8: 1842
I9: H | J9: 9801 | K9: 1942
I10: I | J10: 11216 | K10: 2202
I11: J | J11: 12617 | K11: 2362
I12: K | J12: 14007 | K12: 2442
I13: L | J13: 15359 | K13: 2592
I14: M | J14: 18018 | K14: 2742
I15: N | J15: 999999999 | K15: 2742
A20: CF | B20: =IF(Q3="","",+Feuil1!C21) | F20: =IF(Q4="","",+Feuil1!C21) | J20: =IF(Q5="","",+Feuil1!C21)
B21: Code | C21: Montant | F21: Code | G21: Montant | J21: code | K21: montant
B22: =IF(AND($B$20<=B2,$B$20>B1),A2,"") | C22: =IF(AND($B$20<=B2,$B$20>B1),C2,"") | F22: =IF(AND($F$20<=F2,$F$20>F1),E2,"") | G22: =IF(AND($F$20<=F2,$F$20>F1),G2,"") | J22: =IF(AND($J$20<=J2,$J$20>J1),I2,"") | K22: =IF(AND($J$20<=J2,$J$20>J1),K2,"")
B23: =IF(AND($B$20<=B3,$B$20>B2),A3,"") | C23: =IF(AND($B$20<=B3,$B$20>B2),C3,"") | F23: =IF(AND($F$20<=F3,$F$20>F2),E3,"") | G23: =IF(AND($F$20<=F3,$F$20>F2),G3,"") | J23: =IF(AND($J$20<=J3,$J$20>J2),I3,"") | K23: =IF(AND($J$20<=J3,$J$20>J2),K3,"")
B24: =IF(AND($B$20<=B4,$B$20>B3),A4,"") | C24: =IF(AND($B$20<=B4,$B$20>B3),C4,"") | F24: =IF(AND($F$20<=F4,$F$20>F3),E4,"") | G24: =IF(AND($F$20<=F4,$F$20>F3),G4,"") | J24: =IF(AND($J$20<=J4,$J$20>J3),I4,"") | K24: =IF(AND($J$20<=J4,$J$20>J3),K4,"")
B25: =IF(AND($B$20<=B5,$B$20>B4),A5,"") | C25: =IF(AND($B$20<=B5,$B$20>B4),C5,"") | F25: =IF(AND($F$20<=F5,$F$20>F4),E5,"") | G25: =IF(AND($F$20<=F5,$F$20>F4),G5,"") | J25: =IF(AND($J$20<=J5,$J$20>J4),I5,"") | K25: =IF(AND($J$20<=J5,$J$20>J4),K5,"")
B26: =IF(AND($B$20<=B6,$B$20>B5),A6,"") | C26: =IF(AND($B$20<=B6,$B$20>B5),C6,"") | F26: =IF(AND($F$20<=F6,$F$20>F5),E6,"") | G26: =IF(AND($F$20<=F6,$F$20>F5),G6,"") | J26: =IF(AND($J$20<=J6,$J$20>J5),I6,"") | K26: =IF(AND($J$20<=J6,$J$20>J5),K6,"")
B27: =IF(AND($B$20<=B7,$B$20>B6),A7,"") | C27: =IF(AND($B$20<=B7,$B$20>B6),C7,"") | F27: =IF(AND($F$20<=F7,$F$20>F6),E7,"") | G27: =IF(AND($F$20<=F7,$F$20>F6),G7,"") | J27: =IF(AND($J$20<=J7,$J$20>J6),I7,"") | K27: =IF(AND($J$20<=J7,$J$20>J6),K7,"")
F28: =IF(AND($F$20<=F8,$F$20>F7),E8,"") | G28: =IF(AND($F$20<=F8,$F$20>F7),G8,"") | J28: =IF(AND($J$20<=J8,$J$20>J7),I8,"") | K28: =IF(AND($J$20<=J8,$J$20>J7),K8,"")
J29: =IF(AND($J$20<=J9,$J$20>J8),I9,"") | K29: =IF(AND($J$20<=J9,$J$20>J8),K9,"")
J30: =IF(AND($J$20<=J10,$J$20>J9),I10,"") | K30: =IF(AND($J$20<=J10,$J$20>J9),K10,"")
J31: =IF(AND($J$20<=J11,$J$20>J10),I11,"") | K31: =IF(AND($J$20<=J11,$J$20>J10),K11,"")
J32: =IF(AND($J$20<=J12,$J$20>J11),I12,"") | K32: =IF(AND($J$20<=J12,$J$20>J11),K12,"")
J33: =IF(AND($J$20<=J13,$J$20>J12),I13,"") | K33: =IF(AND($J$20<=J13,$J$20>J12),K13,"")
J34: =IF(AND($J$20<=J14,$J$20>J13),I14,"") | K34: =IF(AND($J$20<=J14,$J$20>J13),K14,"")
J35: =IF(AND($J$20<=J15,$J$20>J14),I15,"") | K35: =IF(AND($J$20<=J15,$J$20>J14),K15,"")
B38: =_xlfn.XLOOKUP(C38,C22:C27,B22:B27) -> #N/A | C38: =SUM(C22:C27) -> 0 | F38: =SUM(F22:F36) -> 0 | G38: =SUM(G22:G28) -> 0 | J38: =_xlfn.XLOOKUP(K38,K22:K35,J22:J35) -> #N/A | K38: =SUM(K22:K35) -> 0
A41: CF | B41: =Feuil1!C21 -> 0
A43: Forfait DP | B43: Montants | E43: forfait
G44: Ext | H44: 3 jours | I44: 4 Jours | J44: 5 Jours
A45: Ext | B45: 0 | F45: 4182 | G45: 0 | H45: 753 | I45: 935 | J45: 1147
A46: 1 Jour | B46: 287 | F46: 12617 | G46: 0 | H46: 898 | I46: 1080 | J46: 1317
A47: 2 Jours | B47: 573 | F47: 999999999 | G47: 0 | H47: 927 | I47: 1114 | J47: 1381
A48: 3 Jours | B48: 858
A49: 4 jours | B49: 1142 | F49: Resultat CF | G49: =IF($B$41<=$F45,G45,IF(AND($B$41<=$F46,$B$41>$F45+1),G46,IF(AND($B$41<=$F47,$B$41>$F46+1),G47))) -> 0 | H49: =IF($B$41<=$F45,H45,IF(AND($B$41<=$F46,$B$41>$F45+1),H46,IF(AND($B$41<=$F47,$B$41>$F46+1),H47))) -> 753 | I49: =IF($B$41<=$F45,I45,IF(AND($B$41<=$F46,$B$41>$F45+1),I46,IF(AND($B$41<=$F47,$B$41>$F46+1),I47))) -> 935 | J49: =IF($B$41<=$F45,J45,IF(AND($B$41<=$F46,$B$41>$F45+1),J46,IF(AND($B$41<=$F47,$B$41>$F46+1),J47))) -> 1147
